BEGIN:VCALENDAR
VERSION:2.0
PRODID:-//eventon.com NONSGML v1.0//EN
CALSCALE:GREGORIAN
METHOD:PUBLISH
BEGIN:VEVENT
UID:69e6028439c02
DTSTAMP:20260420T104004Z
DTSTART:20230722T190000Z
DTEND:20230722T210000Z
LOCATION:Crosswinds Main Campus 2100 El Rancho Dr
SUMMARY:Men's Breakfast!
DESCRIPTION:Men it&#8217;s been too long. Invite a buddy and meet with us f
 or our next Men&#8217;s Breakfast! We will spend an awesome time together e
 njoying a delicious breakfast and hearing the Word of God. Saturday July 22
 nd at 8am in the Kids Church Room. If this is your first time[..]\nhttps://
 crosswindsnv.org/events/mens-breakfast/
URL:https://crosswindsnv.org/events/mens-breakfast/
END:VEVENT
END:VCALENDAR