BEGIN:VCALENDAR
VERSION:2.0
PRODID:-//eventon.com NONSGML v1.0//EN
CALSCALE:GREGORIAN
METHOD:PUBLISH
BEGIN:VEVENT
UID:69e6bdce960dd
DTSTAMP:20260420T235910Z
DTSTART:20240331T093000Z
DTEND:20240331T103000Z
LOCATION:
SUMMARY:Water Baptisms on Easter Sunday!
DESCRIPTION:No better time to get water baptized then on Easter Sunday\,  M
 arch 31st at 9:30 am! This will be during service. Publicly declare that yo
 u have decided to follow Jesus by getting water baptized just like He did. 
 Taking the water baptism class is required. The classes as are follows:[..]
 \nhttps://crosswindsnv.org/events/water-baptisms-on-easter-sunday/
URL:https://crosswindsnv.org/events/water-baptisms-on-easter-sunday/
END:VEVENT
END:VCALENDAR