BEGIN:VCALENDAR
VERSION:2.0
PRODID:-//eventon.com NONSGML v1.0//EN
CALSCALE:GREGORIAN
METHOD:PUBLISH
BEGIN:VEVENT
UID:69e87e6bd1ac6
DTSTAMP:20260422T075315Z
DTSTART:20240629T080000Z
DTEND:20240629T100000Z
LOCATION:Crosswinds Main Campus 2100 El Rancho Dr
SUMMARY:Men's Breakfast - "Breaking Through to our Personal Victory"
DESCRIPTION:We are finishing our Men&#8217;s Breakfast second quarter study
  on &#8220;Developing our Personal Ministry!&#8221; Mark this date on your 
 calendar: 6/29/24 | 8am | Breaking Through to our Personal Victory Breakfas
 t will be held in Kids Church Room with message and worship in the Main San
 ctuary. REMEMBER! No tickets required![..]\nhttps://crosswindsnv.org/events
 /mens-breakfast-breaking-through-to-our-personal-victory/
URL:https://crosswindsnv.org/events/mens-breakfast-breaking-through-to-our-personal-victory/
END:VEVENT
END:VCALENDAR