BEGIN:VCALENDAR
VERSION:2.0
PRODID:-//eventon.com NONSGML v1.0//EN
CALSCALE:GREGORIAN
METHOD:PUBLISH
BEGIN:VEVENT
UID:69e646cee9bc9
DTSTAMP:20260420T153126Z
DTSTART:20240911T190000Z
DTEND:20241023T200000Z
LOCATION:
SUMMARY:MARRIAGE CLASS
DESCRIPTION:MARRIAGE BUILT TO LAST is a 6 week marriage Bible study. Money
 \,  in-laws\,  sex\,  arguments … we all want a healthy\,  loving marriag
 e\,  but there are so many real issues that can stand in the way. Research 
 has shown that over 50% of marriages are ending in divorce. That is why we
 &#8217;ve[..]\nhttps://crosswindsnv.org/events/marriage-class/
URL:https://crosswindsnv.org/events/marriage-class/
END:VEVENT
END:VCALENDAR